BEGIN:VCALENDAR
VERSION:2.0
CALSCALE:GREGORIAN
PRODID:adamgibbons/ics
METHOD:PUBLISH
X-PUBLISHED-TTL:PT1H
BEGIN:VEVENT
UID:1151867948
SUMMARY:Портфолио для поступления в магистратуру
DTSTAMP:20260320T074400Z
DTSTART:20260521T150000Z
DTEND:20260521T170000Z
DESCRIPTION:Хотите построить карьеру в рекламе\, пиаре\, маркетинге\, медиа
	 или управлять коммуникациями в госструктурах и НКО? Вебинар-консультация 
	магистерских программ Школы коммуникаций НИУ ВШЭ — «Интегрированные коммун
	икации» и «Коммуникации в государственных структурах и НКО» — расскажет вс
	ё о старте вашего пути в самой быстроразвивающейся индустрии.
STATUS:CONFIRMED
END:VEVENT
END:VCALENDAR
