BEGIN:VCALENDAR
VERSION:2.0
CALSCALE:GREGORIAN
PRODID:adamgibbons/ics
METHOD:PUBLISH
X-PUBLISHED-TTL:PT1H
BEGIN:VEVENT
UID:1151868158
SUMMARY:Консультация по портфолио – вебинар для поступающих в магистратуру
DTSTAMP:20260320T074400Z
DTSTART:20260527T150000Z
DTEND:20260527T170000Z
DESCRIPTION:Хотите научиться управлять коммуникациями на высшем уровне\, со
	здавать стратегии и работать с продуктами на основе данных? Приглашаем на 
	вебинар-консультацию программ Школы коммуникаций НИУ ВШЭ — «Управление стр
	атегическими коммуникациями»-100% онлайн и «Цифровые коммуникации и продук
	товая аналитика».
STATUS:CONFIRMED
END:VEVENT
END:VCALENDAR
